BEGIN:VCALENDAR
VERSION:2.0
PRODID:-//wp-events-plugin.com//7.2.3.1//EN
TZID:Europe/London
X-WR-TIMEZONE:Europe/London
BEGIN:VEVENT
UID:39@ide.org.uk
DTSTART;TZID=Europe/London:20231122T100000
DTEND;TZID=Europe/London:20231122T150000
DTSTAMP:20231116T121853Z
URL:https://ide.org.uk/events/site-visit-to-cleveland-steel-and-tubes-ltd-
 in-north-yorkshire/
SUMMARY:Site Visit to Cleveland Steel and Tubes Ltd in North Yorkshire
DESCRIPTION:Cleveland Steel &amp\; Tubes Ltd (CST) is a leading provider of
  surplus steel tubes for reuse in the construction sector. CST hold 84\,00
 0 tonnes of tube at any one time on their 100 acre North Yorkshire site. 
  The visit provides an opportunity to see their operations in the flesh an
 d find out more about their surplus steel acquisition and reuse process fr
 om Managing Director\, Roy Fishwick.\n\nCST is a project partner in the DI
 SRUPT II project alongside lead partner the Alliance for Sustainable Build
 ing Products (ASBP) and the Institute of Demolition Engineers.  DISRUPT I
 I builds upon the successes of the first DISRUPT project\, funded under In
 novate UK's Nicer Programme\, which explored the innovative reuse of struc
 tural steel in construction.\n\nThe main output of the project was a free-
 to-download 'toolkit' to provide major supply chain stakeholder's involved
  in steel reuse\, ranging from Demolition contractors to clients\, with gu
 idance\, business considerations\, case studies and more\, to facilitate n
 ew market entrants and ultimately achieve a greater supply of reused steel
  in the construction industry.\n\nOne of the main barriers to the signific
 ant uptake of steel reuse is the lack of available material generated duri
 ng refurbishment and Demolition projects. DISRUPT II takes a 'deep-dive' i
 nto the Demolition sector\, engaging with key industry bodies and Demoliti
 on contractors to establish the drivers\, incentives and guidance required
  to enable more steel to be reclaimed.\n\nTo register your interest in thi
 s event please RSVP to richard@asbp.org.uk\n\nLocation: Dalton Industrial 
 Estate\, Thirsk\, North Yorkshire YO7 3JN\n\n&nbsp\;\n\n&nbsp\;
END:VEVENT
BEGIN:VTIMEZONE
TZID:Europe/London
X-LIC-LOCATION:Europe/London
BEGIN:STANDARD
DTSTART:20231029T010000
TZOFFSETFROM:+0100
TZOFFSETTO:+0000
TZNAME:GMT
END:STANDARD
END:VTIMEZONE
END:VCALENDAR