BEGIN:VCALENDAR
VERSION:2.0
PRODID:-//wp-events-plugin.com//7.2.3.1//EN
TZID:Europe/London
X-WR-TIMEZONE:Europe/London
BEGIN:VEVENT
UID:65@ide.org.uk
DTSTART;TZID=Europe/London:20250619T090000
DTEND;TZID=Europe/London:20250619T150000
DTSTAMP:20250606T083821Z
URL:https://ide.org.uk/events/nfdc-talk-manchester/
SUMMARY:NFDC talk Manchester
DESCRIPTION:Join the NFDC\, HSE and IDE in Manchester at the Crowne Plaza o
 n the 19th June to learn your client responsibilities and how to choose th
 e right contractor for demolition projects. CPD Points are available.\n\n
LOCATION:Crowne Plaza\, Manchester\, 70 Shudehill\, Manchester \, M4 4AF\, 
 United Kingdom
X-APPLE-STRUCTURED-LOCATION;VALUE=URI;X-ADDRESS=70 Shudehill\, Manchester \
 , M4 4AF\, United Kingdom;X-APPLE-RADIUS=100;X-TITLE=Crowne Plaza\, Manche
 ster:geo:0,0
END:VEVENT
BEGIN:VTIMEZONE
TZID:Europe/London
X-LIC-LOCATION:Europe/London
BEGIN:DAYLIGHT
DTSTART:20250330T020000
TZOFFSETFROM:+0000
TZOFFSETTO:+0100
TZNAME:BST
END:DAYLIGHT
END:VTIMEZONE
END:VCALENDAR