BEGIN:VCALENDAR
VERSION:2.0
PRODID:-//wp-events-plugin.com//7.2.3.1//EN
TZID:Europe/London
X-WR-TIMEZONE:Europe/London
BEGIN:VEVENT
UID:50@ide.org.uk
DTSTART;TZID=Europe/London;VALUE=DATE:20240902
DTEND;TZID=Europe/London;VALUE=DATE:20240903
DTSTAMP:20240725T144943Z
URL:https://ide.org.uk/events/ide-exam-preparation-day-8/
SUMMARY:IDE Exam Preparation Day
DESCRIPTION:Please contact Isobel Woodbury isobel@ide.org.uk or 01634 79054
 8 for more information
END:VEVENT
BEGIN:VTIMEZONE
TZID:Europe/London
X-LIC-LOCATION:Europe/London
BEGIN:DAYLIGHT
DTSTART:20240331T020000
TZOFFSETFROM:+0000
TZOFFSETTO:+0100
TZNAME:BST
END:DAYLIGHT
END:VTIMEZONE
END:VCALENDAR