BEGIN:VCALENDAR
VERSION:2.0
PRODID:-//wp-events-plugin.com//7.2.3.1//EN
TZID:Europe/London
X-WR-TIMEZONE:Europe/London
BEGIN:VEVENT
UID:75@ide.org.uk
DTSTART;TZID=Europe/London;VALUE=DATE:20261120
DTEND;TZID=Europe/London;VALUE=DATE:20261121
DTSTAMP:20250930T085217Z
URL:https://ide.org.uk/events/autumn-seminar-2026/
SUMMARY:Autumn Seminar 2026
DESCRIPTION:Details to be announced.
END:VEVENT
BEGIN:VTIMEZONE
TZID:Europe/London
X-LIC-LOCATION:Europe/London
BEGIN:STANDARD
DTSTART:20261025T010000
TZOFFSETFROM:+0100
TZOFFSETTO:+0000
TZNAME:GMT
END:STANDARD
END:VTIMEZONE
END:VCALENDAR