BEGIN:VCALENDAR
VERSION:2.0
PRODID:-//wp-events-plugin.com//7.2.3.1//EN
TZID:Europe/London
X-WR-TIMEZONE:Europe/London
BEGIN:VEVENT
UID:73@ide.org.uk
DTSTART;TZID=Europe/London;VALUE=DATE:20260919
DTEND;TZID=Europe/London;VALUE=DATE:20260920
DTSTAMP:20260108T114559Z
URL:https://ide.org.uk/events/agm-and-50th/
SUMMARY:AGM and 50th
DESCRIPTION:50th Gala Booking Form updated
END:VEVENT
BEGIN:VTIMEZONE
TZID:Europe/London
X-LIC-LOCATION:Europe/London
BEGIN:DAYLIGHT
DTSTART:20260329T020000
TZOFFSETFROM:+0000
TZOFFSETTO:+0100
TZNAME:BST
END:DAYLIGHT
END:VTIMEZONE
END:VCALENDAR